BEGIN:VCALENDAR
VERSION:2.0
PRODID:-//eventon.com NONSGML v1.0//EN
CALSCALE:GREGORIAN
METHOD:PUBLISH
BEGIN:VEVENT
UID:69e555be3c67f
DTSTAMP:20260419T222254Z
DTSTART:20240623
DTEND:20240624
LOCATION:
SUMMARY:Finale du MUSTH à Bardos
DESCRIPTION:Finale du MUSTH à Bardos\nhttps://trial-club-basque.com/events
 /finale-du-musth-a-bardos/
URL:https://trial-club-basque.com/events/finale-du-musth-a-bardos/
END:VEVENT
END:VCALENDAR