BEGIN:VCALENDAR
VERSION:2.0
PRODID:-//eventon.com NONSGML v1.0//EN
CALSCALE:GREGORIAN
METHOD:PUBLISH
BEGIN:VEVENT
UID:69e5d3283284e
DTSTAMP:20260420T071800Z
DTSTART:20231015T060000Z
DTEND:20231015T160000Z
LOCATION:
SUMMARY:Lourdes (65)
DESCRIPTION:Lourdes (65)\nhttps://trial-club-basque.com/events/lourdes-65/
URL:https://trial-club-basque.com/events/lourdes-65/
END:VEVENT
END:VCALENDAR